BEGIN:VCALENDAR
VERSION:2.0
PRODID:-//Saskatchewan Rivers Public School Division No.119 - ECPv6.13.2.1//NONSGML v1.0//EN
CALSCALE:GREGORIAN
METHOD:PUBLISH
X-WR-CALNAME:Saskatchewan Rivers Public School Division No.119
X-ORIGINAL-URL:https://www.srsd119.ca
X-WR-CALDESC:Events for Saskatchewan Rivers Public School Division No.119
REFRESH-INTERVAL;VALUE=DURATION:PT1H
X-Robots-Tag:noindex
X-PUBLISHED-TTL:PT1H
BEGIN:VTIMEZONE
TZID:America/Regina
BEGIN:STANDARD
TZOFFSETFROM:-0600
TZOFFSETTO:-0600
TZNAME:CST
DTSTART:20260101T000000
END:STANDARD
END:VTIMEZONE
BEGIN:VEVENT
DTSTART;TZID=America/Regina:20260424T090000
DTEND;TZID=America/Regina:20260424T153000
DTSTAMP:20260424T062308
CREATED:20260203T215247Z
LAST-MODIFIED:20260203T215247Z
UID:31553-1777021200-1777044600@www.srsd119.ca
SUMMARY:Indigenous Rights\, Land & Environmental Equity PD
DESCRIPTION:Indigenous Rights\, Land & Environmental  \nEquity PD \n              Approved by: \nJen Hingley\, Superintendent of Schools\n\n\nAttendance: \n☐Expected \n☒Invitation \nNotes:\nSub Covered by: \n☒Division \n☐Decentralized \n  Mileage Covered by Division\nLunch: \n☒On your own \n☐Provided \n \n\n\nWho:  \nDate:  \nTime:  \nLocation:  \nFacilitator(s):  \nBring:\nGrade 8 teachers & Environmental Science 20 teachers \nMarch 10 2026 & April 24th 2026 \n9:00am-3:30pm \nSeminar East and West at The Ed Center \nShea Pilon and Danielle Poulin \nLaptop\n\n\nOverview: \nWe are excited to invite you to the Land-Based Indigenous Rights and Environmental Equity PD\, which will take place over two professional development sessions on March 10 2026 & April 24th 2026 \nDuring these sessions\, we will co-create a unit. By participating in this PD\, you will be expected to teach the land-based unit that we develop together. \nWhat to Expect: \n\nGrade Level: The co-created unit will be designed for Grade 8 or Highschool 10\, Environmental Science 10& Wildlife and habitat curriculums.\n\nTopics Covered: \n\n\n\nTreaties\nIndigenous governance\nEnvironmental stewardship and equity\nCurrent examples of environmental threats\, such as the harvesting of peat moss in La Ronge.\n\n\n\nKey Features: \n\nThe unit will include:\n\nShared resources\nExperiential play based learning (EPBL)\nLand-based learning opportunities\n\n\nYou will be expected to teach the unit between the offering of the two PD sessions\, following the prescribed timeline. The unit will start in April.\n\nPD Sessions: \n\nFirst Session(March 10 2026):\n\nIntroduction to the unit’s structure and key components.\nTime to begin planning.\n\n\nSecond Session (April 24th 2026):\n\nContinue collaborative planning and finalize the unit.\n\n\n\nBy attending this PD\, you agree to follow and teach the unit as outlined in the timeline we create. We look forward to co-creating and collaborating with you!\n\n\nFor workshop information contact:  764-1571 \nDeadline for Registration:  February 27\,  2026 \nRegistration will only be accepted through online registration \nMaximum Participants: 15 \nClick Here To Register \nWorkshop Name: Indigenous Rights\, Land & Environmental Equity PD \nComplete “Request for Leave” Form: (please check one):  \n☒ Curriculum (CURR)
URL:https://www.srsd119.ca/event/indigenous-rights-land-environmental-equity-pd-2/
LOCATION:Ed Centre – Seminar East & West\, 545 11 St E\, Prince Albert\, Saskatchewan\, SK\, S6V 1B1\, Canada
END:VEVENT
END:VCALENDAR