BEGIN:VCALENDAR
VERSION:2.0
PRODID:-//Saskatchewan Rivers Public School Division No.119 - ECPv6.13.2.1//NONSGML v1.0//EN
CALSCALE:GREGORIAN
METHOD:PUBLISH
X-WR-CALNAME:Saskatchewan Rivers Public School Division No.119
X-ORIGINAL-URL:https://www.srsd119.ca
X-WR-CALDESC:Events for Saskatchewan Rivers Public School Division No.119
REFRESH-INTERVAL;VALUE=DURATION:PT1H
X-Robots-Tag:noindex
X-PUBLISHED-TTL:PT1H
BEGIN:VTIMEZONE
TZID:America/Regina
BEGIN:STANDARD
TZOFFSETFROM:-0600
TZOFFSETTO:-0600
TZNAME:CST
DTSTART:20260101T000000
END:STANDARD
END:VTIMEZONE
BEGIN:VEVENT
DTSTART;TZID=America/Regina:20260422T090000
DTEND;TZID=America/Regina:20260423T153000
DTSTAMP:20260422T061746
CREATED:20260304T164222Z
LAST-MODIFIED:20260304T190408Z
UID:31723-1776848400-1776958200@www.srsd119.ca
SUMMARY:ASIST Training (Applied Suicide Intervention Skills)
DESCRIPTION:  \nASIST Training (Applied Suicide Intervention Skills)\n              Approved by:  \n  \nKelly      Kelly Gerhardt\, Superintendent of Schools \n \n\n\nAttendance: \n☐Expected \n☒Invitation \nNotes:\nSub Covered by: \n☐Division \n☒Decentralized \n  Mileage Covered by Division\nLunch: \n☒On your own \n☐Provided\n\n\nDate and Time:  \nApril 22 and 23\, 2026 – 9:00 to 3:30 \nLocation: \nEd. Centre – Boardroom \nFacilitators:  \nJasmin Tiessen and Kelly Gerhardt \nBring: paper and pen \n \n  \nIntended Audience: \n  \nClassroom teachers\, Inclusive Education Coaches\, EAs\, Mentors\, Social Workers\, Administrators \n  \nAttendees must attend both days.\n\n\nPurpose: \n  \nASIST is a two-day interactive workshop on suicide first-aid. Participants will learn to recognize when someone may be at risk of suicide and will be able to create a plan for immediate safety. The focus is on building practical\, life-assisting skills to help someone at risk. \nOur school division is committed to student safety and well-being. This internationally recognized program equips school personnel with practical skills to recognize when a student may be at risk\, have caring and direct conversations about suicide\, and connect students to appropriate supports. \n \n\n\nDeadline for Registration: April 15\, 2026 \nMaximum Participants: 16 \nRegister for: ASIST Training \nFor workshop information contact:  \nJasmin Tiessen – 764-1571\nClick Here To Register \n  \nResources and snacks are based on registration numbers\, you MUST register with the link above.\n\n\n  \nComplete “Request for Leave” Form: \nStaff Dev. Decentralized Teachers (SDDT) School- Based PD Funds
URL:https://www.srsd119.ca/event/asist-training-applied-suicide-intervention-skills/
LOCATION:Board Room – Education Centre
END:VEVENT
END:VCALENDAR