BEGIN:VCALENDAR
VERSION:2.0
PRODID:-//Saskatchewan Rivers Public School Division No.119 - ECPv6.13.2.1//NONSGML v1.0//EN
CALSCALE:GREGORIAN
METHOD:PUBLISH
X-WR-CALNAME:Saskatchewan Rivers Public School Division No.119
X-ORIGINAL-URL:https://www.srsd119.ca
X-WR-CALDESC:Events for Saskatchewan Rivers Public School Division No.119
REFRESH-INTERVAL;VALUE=DURATION:PT1H
X-Robots-Tag:noindex
X-PUBLISHED-TTL:PT1H
BEGIN:VTIMEZONE
TZID:America/Regina
BEGIN:STANDARD
TZOFFSETFROM:-0600
TZOFFSETTO:-0600
TZNAME:CST
DTSTART:20260101T000000
END:STANDARD
END:VTIMEZONE
BEGIN:VEVENT
DTSTART;TZID=America/Regina:20260421T083000
DTEND;TZID=America/Regina:20260421T153000
DTSTAMP:20260421T042747
CREATED:20260223T193336Z
LAST-MODIFIED:20260304T191230Z
UID:31644-1776760200-1776785400@www.srsd119.ca
SUMMARY:Assessment
DESCRIPTION:Assessment Days\n\n\nMaximum Participants: 4 \n  \n \n\n\n  \n  \n  \nWe have thoughtfully scheduled the assessment days to align with other events across the school division that require substitute teachers. Each assessment day has a designated number of substitutes available\, ensuring that we don’t exceed capacity and cause shortages in schools. \n  \n·        The principal will arrange for substitute teacher(s) on the day(s) they have registered. \n  \n·        The principal informs their secretary that they have made these bookings so that the secretary can follow the ‘Entering Time for Additional Sub Teachers & EAs’ document to ensure the sub is paid correctly. \n  \n·        The secretary will enter the Sub time as ‘Extra-No Absent Emp-Curriculum’. \n  \n  \n \n\n\nRegister for: Assessment \n \nClick Here To Register \n  \n \n\n\n  \n*NO leave forms will be completed for Assessment Days. \n 
URL:https://www.srsd119.ca/event/assessment-49/
LOCATION:Saskatchewan\, SK
END:VEVENT
BEGIN:VEVENT
DTSTART;TZID=America/Regina:20260421T090000
DTEND;TZID=America/Regina:20260421T153000
DTSTAMP:20260421T042747
CREATED:20260310T200251Z
LAST-MODIFIED:20260312T165105Z
UID:31746-1776762000-1776785400@www.srsd119.ca
SUMMARY:EA PD
DESCRIPTION:  \nEA PD\n              Approved by:  \n  \n  \nKelly Gerhardt\, Superintendent of Schools\n\n\nAttendance: \n☐Expected \n☒Invitation \nNotes:\nSub Covered by: \n☒Division \n☐Decentralized \n  Mileage Covered by Division\nLunch: \n☒On your own \n☐Provided\n\n\nDate and Time:  \nApril 21\, 2026 – 9:00 to 3:30 \nLocation: \nEd. Centre – Seminar West/East \nFacilitators:  \nIntensive Supports Team \nBring: Pen and paper\, questions\, and a smile \n \n  \nIntended Audience: \n  \nSRPSD EAs of all experience levels \n \n\n\nPurpose: \n  \nAre you looking to enhance your skills and make a meaningful impact on students? Join us for an informative workshop designed specifically based on the most requested. The workshop aims to equip you with the knowledge\, tools and strategies needed in your role to support students effectively. \n  \n                                                                                            \n\n\nDeadline for Registration: April 15\, 2026 \nMaximum Participants: 18 \nRegister for: EA PD March \nFor workshop information contact:  \nIS Consultants – Jasmin Tiessen\, Cara Kuzma\, or Tricia McEwen at 764-1571\nClick Here To Register \n  \nResources and snacks are based on registration numbers\, you MUST register with the link above.\n\n\n  \nComplete “Request for Leave” Form: \nStaff Dev. CUPE Individual (SDCI)
URL:https://www.srsd119.ca/event/ea-pd-2/
LOCATION:Ed Centre – Seminar East & West\, 545 11 St E\, Prince Albert\, Saskatchewan\, SK\, S6V 1B1\, Canada
END:VEVENT
END:VCALENDAR